BEGIN:VCALENDAR
VERSION:2.0
PRODID:-//Moncton Cares - ECPv6.15.12.2//NONSGML v1.0//EN
CALSCALE:GREGORIAN
METHOD:PUBLISH
X-ORIGINAL-URL:https://monctoncares.ca
X-WR-CALDESC:Events for Moncton Cares
REFRESH-INTERVAL;VALUE=DURATION:PT1H
X-Robots-Tag:noindex
X-PUBLISHED-TTL:PT1H
BEGIN:VTIMEZONE
TZID:America/Halifax
BEGIN:DAYLIGHT
TZOFFSETFROM:-0400
TZOFFSETTO:-0300
TZNAME:ADT
DTSTART:20220313T060000
END:DAYLIGHT
BEGIN:STANDARD
TZOFFSETFROM:-0300
TZOFFSETTO:-0400
TZNAME:AST
DTSTART:20221106T050000
END:STANDARD
BEGIN:DAYLIGHT
TZOFFSETFROM:-0400
TZOFFSETTO:-0300
TZNAME:ADT
DTSTART:20230312T060000
END:DAYLIGHT
BEGIN:STANDARD
TZOFFSETFROM:-0300
TZOFFSETTO:-0400
TZNAME:AST
DTSTART:20231105T050000
END:STANDARD
BEGIN:DAYLIGHT
TZOFFSETFROM:-0400
TZOFFSETTO:-0300
TZNAME:ADT
DTSTART:20240310T060000
END:DAYLIGHT
BEGIN:STANDARD
TZOFFSETFROM:-0300
TZOFFSETTO:-0400
TZNAME:AST
DTSTART:20241103T050000
END:STANDARD
END:VTIMEZONE
BEGIN:VEVENT
DTSTART;TZID=America/Halifax:20230728T143000
DTEND;TZID=America/Halifax:20230728T153000
DTSTAMP:20260422T030201
CREATED:20230527T021906Z
LAST-MODIFIED:20230711T134159Z
UID:9960-1690554600-1690558200@monctoncares.ca
SUMMARY:Newcomer Pre-Arrival Integration Session – July 2023
DESCRIPTION:Our Newcomer Pre-Arrival Integration Session\, Scheduled For July 28th\, 2023\, Is An Online Event Designed To Assist Individuals Who Are Planning To Move To New Brunswick\, Canada In The Near Future. The Session Will Provide Practical Information\, Resources\, And Tips To Help Participants Prepare For Their Upcoming Relocation. \nTime: 1:30 pm Atlantic Time (-03:00 UTC)
URL:https://monctoncares.ca/event/newcomer-pre-arrival-integration-session-july-2023/
CATEGORIES:Free,Online
ATTACH;FMTTYPE=image/png:https://monctoncares.ca/wp-content/uploads/2023/02/Untitled-design-3.png
ORGANIZER;CN="Moncton Cares":MAILTO:community@monctoncares.ca
END:VEVENT
BEGIN:VEVENT
DTSTART;TZID=America/Halifax:20230707T180000
DTEND;TZID=America/Halifax:20230707T190000
DTSTAMP:20260422T030201
CREATED:20230705T184635Z
LAST-MODIFIED:20230705T184635Z
UID:11577-1688752800-1688756400@monctoncares.ca
SUMMARY:Youth Activity Info Day
DESCRIPTION:Join us for an exciting and engaging Youth Activity Info Day on Friday\, July 7th\, from 5 pm to 7 pm at 4 Flanders Court. \nThis event is specifically designed for young individuals like yourself\, providing an excellent opportunity to discover a wide range of activities catered to your interests. From sports and arts to educational workshops and community projects\, we have something for everyone! \nAfter the informative session\, we invite you to indulge in a delightful BBQ or cookout. It’s a fantastic chance to socialize with fellow attendees\, share experiences\, and enjoy delicious food in a relaxed and friendly atmosphere. \nDon’t miss out on this incredible event! Come and join us at 4 Flanders Court on Friday\, July 7th\, from 5 pm to 7 pm\, and experience a fun-filled evening of youth activities and mouthwatering delights.
URL:https://monctoncares.ca/event/youth-activity-info-day/
CATEGORIES:Free,In Person
ATTACH;FMTTYPE=image/png:https://monctoncares.ca/wp-content/uploads/2023/02/Untitled-design-3.png
END:VEVENT
BEGIN:VEVENT
DTSTART;TZID=America/Halifax:20230703T170000
DTEND;TZID=America/Halifax:20230703T180000
DTSTAMP:20260422T030201
CREATED:20230620T161509Z
LAST-MODIFIED:20230620T161946Z
UID:10380-1688403600-1688407200@monctoncares.ca
SUMMARY:Blood Donation Drive | Canadian Blood Services
DESCRIPTION:Moncton Cares Blood Donation Drive 💙🩸\nCalling all newcomers and immigrants in Moncton! We have an exciting opportunity for you to make a meaningful impact in our community. Moncton cares is thrilled to announce our upcoming Blood Donation Drive on June 30th and July 3rd.\nBlood donation is a selfless act that saves lives and promotes a healthier society. By participating in this drive\, you can become a hero by giving the gift of life to those in need. Your contribution can truly make a difference\, and we warmly invite you to be a part of this noble cause.\n🗓️ Date: June 30th (Friday) and July 3rd (Monday)\n🕘 Time: June 30th (Friday): At a time that is convenient for you\n🕘 July 3rd (Monday): 4:00 to 5:00 pm\n🏢 Venue: 500 Mapleton Road\nThis drive is specifically organized to encourage newcomers and immigrants to come forward and sign up for blood donation. We understand that settling into a new community can be challenging\, but this is an opportunity for us to come together\, support each other\, and create a bond that transcends borders.\nWhy should you donate blood? Here are a few reasons:\n🌟 You save lives: Every donation can help save up to three lives. Your selfless act can bring hope to patients in need of blood transfusions.\n🌟 Health benefits: Blood donation stimulates the production of new blood cells\, promoting overall well-being and reducing the risk of certain health conditions.\n🌟 Community engagement: By participating in this drive\, you become an integral part of our community\, showcasing compassion and unity among newcomers and long-standing residents alike.\n🌟 Making a difference: Your contribution creates a positive ripple effect\, inspiring others to step forward and donate\, thus multiplying the impact we can make together.\nTo ensure the safety of all donors\, we have implemented strict health and safety protocols in accordance with public health guidelines. Your well-being is our top priority.\nClick on this link\, create your account and schedule your appointment. https://www.blood.ca/en\nRemember\, a small act of kindness can have an enormous impact. Let’s join hands\, newcomers and immigrants\, and show our solidarity by donating blood to save lives. Together\, we can make a difference!\nPlease share this post with your friends\, family\, and community members. Let’s spread the word and encourage as many people as possible to participate in this noble cause.
URL:https://monctoncares.ca/event/blood-donation-drive-canadian-blood-services/
CATEGORIES:Free,In Person
ATTACH;FMTTYPE=image/png:https://monctoncares.ca/wp-content/uploads/2023/02/Untitled-design-3.png
ORGANIZER;CN="Moncton Cares":MAILTO:community@monctoncares.ca
END:VEVENT
BEGIN:VEVENT
DTSTART;TZID=America/Halifax:20230630T140000
DTEND;TZID=America/Halifax:20230630T150000
DTSTAMP:20260422T030201
CREATED:20230410T164511Z
LAST-MODIFIED:20230410T173047Z
UID:9299-1688133600-1688137200@monctoncares.ca
SUMMARY:Newcomer Pre-Arrival Integration Session - June 2023
DESCRIPTION:Our Newcomer Pre-Arrival Integration Session\, Scheduled For June 30th\, 2023\, Is An Online Event Designed To Assist Individuals Who Are Planning To Move To New Brunswick\, Canada In The Near Future. The Session Will Provide Practical Information\, Resources\, And Tips To Help Participants Prepare For Their Upcoming Relocation.
URL:https://monctoncares.ca/event/newcomer-pre-arrival-integration-session-june-2023/
CATEGORIES:Free,Online
ATTACH;FMTTYPE=image/png:https://monctoncares.ca/wp-content/uploads/2023/02/Untitled-design-3.png
END:VEVENT
BEGIN:VEVENT
DTSTART;TZID=America/Halifax:20230628T190000
DTEND;TZID=America/Halifax:20230628T200000
DTSTAMP:20260422T030201
CREATED:20230627T183819Z
LAST-MODIFIED:20230627T183819Z
UID:11228-1687978800-1687982400@monctoncares.ca
SUMMARY:Language Program Graduation Ceremony
DESCRIPTION:Language Program Graduation Ceremony. Wednesday\, July 28th\, 2023. 6pm at YMCA North
URL:https://monctoncares.ca/event/language-program-graduation-ceremony/
CATEGORIES:Free,In Person
ATTACH;FMTTYPE=image/png:https://monctoncares.ca/wp-content/uploads/2023/02/Untitled-design-3.png
END:VEVENT
BEGIN:VEVENT
DTSTART;TZID=America/Halifax:20230624T120000
DTEND;TZID=America/Halifax:20230625T235900
DTSTAMP:20260422T030201
CREATED:20230602T173357Z
LAST-MODIFIED:20230614T174223Z
UID:10143-1687608000-1687737540@monctoncares.ca
SUMMARY:Learn to Camp  - June Event
DESCRIPTION:Are you a newcomer in New Brunswick? Jois us. Gave fun being with nature. Fill the form or email on monctoncares@gmail.com. Children: Free
URL:https://monctoncares.ca/event/learn-to-camp-june-event/
CATEGORIES:In Person
ATTACH;FMTTYPE=image/png:https://monctoncares.ca/wp-content/uploads/2023/02/Untitled-design-3.png
END:VEVENT
BEGIN:VEVENT
DTSTART;TZID=America/Halifax:20230617T150000
DTEND;TZID=America/Halifax:20230617T200000
DTSTAMP:20260422T030201
CREATED:20230602T171912Z
LAST-MODIFIED:20230609T202050Z
UID:10139-1687014000-1687032000@monctoncares.ca
SUMMARY:Free BBQ Event for Seniors and Newcomers
DESCRIPTION:At Moncton Cares\, we are hosting a BBQ event on  June 17\, at Centennial Park\, in Moncton to bring together newcomers\, local seniors\, and other community members. It will be an opportunity for people to connect\, share experiences\, and enjoy delicious food.
URL:https://monctoncares.ca/event/free-bbq-event-for-seniors-and-newcomers/
CATEGORIES:Free,In Person
ATTACH;FMTTYPE=image/png:https://monctoncares.ca/wp-content/uploads/2023/02/Untitled-design-3.png
END:VEVENT
BEGIN:VEVENT
DTSTART;TZID=America/Halifax:20230601T140000
DTEND;TZID=America/Halifax:20230601T180000
DTSTAMP:20260422T030201
CREATED:20230530T162959Z
LAST-MODIFIED:20230530T163206Z
UID:10078-1685628000-1685642400@monctoncares.ca
SUMMARY:Incredible Photo Day Event - Centennial Park
DESCRIPTION:Capture Beautiful Moments with Moncton Cares and Daria Filatkina! \nJoin us this Thursday\, June 1st at Centennial Park and capture some beautiful moments through Daria’s lens.\nGet ready to strike a pose and create stunning memories against the backdrop of Centennial Park. Darias’s talent will ensure that your photos turn out absolutely breathtaking.\n\n\n\n Centennial Park\n Date: June 01st\n Time: 1:00 pm – 5:00 pm\n\n\n\n Participation is FREE\, but we kindly welcome any donations to support Moncton Cares’ mission of giving back to the community. Your generosity will make a difference in the lives of newcomers\n\n\n Share your experience on social media using the hashtag #MonctonCaresPhotoDay. We can’t wait to see the incredible moments you capture during this event.\n\n\n Mark your calendars and get ready to strike a pose!
URL:https://monctoncares.ca/event/incredible-photo-day-event-centennial-park/
CATEGORIES:Free,In Person
ATTACH;FMTTYPE=image/png:https://monctoncares.ca/wp-content/uploads/2023/02/Untitled-design-3.png
ORGANIZER;CN="Moncton Cares":MAILTO:community@monctoncares.ca
END:VEVENT
BEGIN:VEVENT
DTSTART;TZID=America/Halifax:20230529T110000
DTEND;TZID=America/Halifax:20230529T143000
DTSTAMP:20260422T030201
CREATED:20230527T022352Z
LAST-MODIFIED:20230527T022456Z
UID:9963-1685358000-1685370600@monctoncares.ca
SUMMARY:Moncton Cares Photo Day with Daria Filatkina
DESCRIPTION:Capture Beautiful Moments with Moncton Cares and Daria Filatkina! \nJoin us for an incredible Photo Day event in Downtown Moncton on May 29th! Moncton Cares\, in collaboration with the professional photographer Daria Filatkina\, is thrilled to offer FREE photo sessions for everyone who wants to participate.\n\nLocation: 190 Robinson St.\, Downtown Moncton
URL:https://monctoncares.ca/event/moncton-cares-photo-day-with-daria-filatkina/
CATEGORIES:Free,In Person
ATTACH;FMTTYPE=image/png:https://monctoncares.ca/wp-content/uploads/2023/02/Untitled-design-3.png
ORGANIZER;CN="Moncton Cares":MAILTO:community@monctoncares.ca
END:VEVENT
BEGIN:VEVENT
DTSTART;TZID=America/Halifax:20230526T130000
DTEND;TZID=America/Halifax:20230526T140000
DTSTAMP:20260422T030201
CREATED:20230410T164237Z
LAST-MODIFIED:20230410T171553Z
UID:9297-1685106000-1685109600@monctoncares.ca
SUMMARY:Newcomer Pre-Arrival Integration Session - May 2023
DESCRIPTION:Our Newcomer Pre-Arrival Integration Session\, scheduled for May 26th\, 2023\, is an online event designed to assist individuals who are planning to move to New Brunswick\, Canada in the near future. The session will provide practical information\, resources\, and tips to help participants prepare for their upcoming relocation.
URL:https://monctoncares.ca/event/newcomer-pre-arrival-integration-session-may-2023/
CATEGORIES:Free,Online
ATTACH;FMTTYPE=image/png:https://monctoncares.ca/wp-content/uploads/2023/02/Untitled-design-3.png
END:VEVENT
BEGIN:VEVENT
DTSTART;TZID=America/Halifax:20230428T130000
DTEND;TZID=America/Halifax:20230428T140000
DTSTAMP:20260422T030201
CREATED:20230410T163938Z
LAST-MODIFIED:20230410T171506Z
UID:9294-1682686800-1682690400@monctoncares.ca
SUMMARY:Newcomer Pre-Arrival Integration Session - April 2023
DESCRIPTION:Our Newcomer Pre-Arrival Integration Session\, scheduled for April 28th\, 2023\, is an online event designed to assist individuals who are planning to move to New Brunswick\, Canada in the near future. The session will provide practical information\, resources\, and tips to help participants prepare for their upcoming relocation.
URL:https://monctoncares.ca/event/newcomer-pre-arrival-integration-session-april-2023/
CATEGORIES:Free,Online
ATTACH;FMTTYPE=image/png:https://monctoncares.ca/wp-content/uploads/2023/02/Untitled-design-3.png
END:VEVENT
BEGIN:VEVENT
DTSTART;TZID=America/Halifax:20230426T180000
DTEND;TZID=America/Halifax:20230426T200000
DTSTAMP:20260422T030201
CREATED:20230410T183420Z
LAST-MODIFIED:20230410T183449Z
UID:9340-1682532000-1682539200@monctoncares.ca
SUMMARY:Spanish-English Conversation Circle
DESCRIPTION:Don’t forget to join us in our conversation circle\, a place to practice our fluency and meet new people. Every Wednesday at YMCA North\, from 6pm to 8pm.
URL:https://monctoncares.ca/event/spanish-english-conversation-circle-3/
LOCATION:YMCA North\, 70 Twin Oaks Dr .E1G 0A1
CATEGORIES:Free,In Person
ATTACH;FMTTYPE=image/jpeg:https://monctoncares.ca/wp-content/uploads/2023/04/Image_20230410_145021_650.jpeg
ORGANIZER;CN="Moncton Cares":MAILTO:community@monctoncares.ca
END:VEVENT
BEGIN:VEVENT
DTSTART;TZID=America/Halifax:20230419T180000
DTEND;TZID=America/Halifax:20230419T200000
DTSTAMP:20260422T030201
CREATED:20230410T183119Z
LAST-MODIFIED:20230419T143924Z
UID:9337-1681927200-1681934400@monctoncares.ca
SUMMARY:Spanish-English Conversation Circle
DESCRIPTION:Don’t forget to join us in our conversation circle\, a place to practice our fluency and meet new people. Every Wednesday at YMCA North\, from 6pm to 8pm.
URL:https://monctoncares.ca/event/spanish-english-conversation-circle-2/
LOCATION:YMCA North\, 70 Twin Oaks Dr .E1G 0A1
CATEGORIES:Free,In Person
ATTACH;FMTTYPE=image/jpeg:https://monctoncares.ca/wp-content/uploads/2023/04/Image_20230410_145021_650.jpeg
ORGANIZER;CN="Moncton Cares":MAILTO:community@monctoncares.ca
END:VEVENT
BEGIN:VEVENT
DTSTART;TZID=America/Halifax:20230412T180000
DTEND;TZID=America/Halifax:20230412T200000
DTSTAMP:20260422T030201
CREATED:20230410T165344Z
LAST-MODIFIED:20230410T181718Z
UID:9301-1681322400-1681329600@monctoncares.ca
SUMMARY:Spanish-English Conversation Circle
DESCRIPTION:Don’t forget to join us in our conversation circle\, a place to practice our fluency and meet new people. Every Wednesday at YMCA North\, from 6pm to 8pm
URL:https://monctoncares.ca/event/spanish-english-conversation-circle/
LOCATION:YMCA North\, 70 Twin Oaks Dr .E1G 0A1
CATEGORIES:Free,In Person
ATTACH;FMTTYPE=image/jpeg:https://monctoncares.ca/wp-content/uploads/2023/04/Image_20230410_145021_650.jpeg
ORGANIZER;CN="Moncton Cares":MAILTO:community@monctoncares.ca
END:VEVENT
BEGIN:VEVENT
DTSTART;TZID=America/Halifax:20230226T083000
DTEND;TZID=America/Halifax:20230226T093000
DTSTAMP:20260422T030201
CREATED:20230207T023706Z
LAST-MODIFIED:20230207T024001Z
UID:9020-1677400200-1677403800@monctoncares.ca
SUMMARY:Monthly Newcomer Pre-Arrival Integration Session
DESCRIPTION:Moncton Cares Volunteer team does Monthly Pre-Arrvail Integration Sessions. \n  \nNewcomers in Moncton can join online from anywhere in the world and learn about \n– Airport Pickup \n– Conversation Circles \n– International Grocery Store \n– Mobile Apps to Download \n– Places to visit \n– Job Opportunities \n– Accommodation Search and Current Situation \n– How to Driver around in Moncton \n– Various Communities \n– Q&A
URL:https://monctoncares.ca/event/monthly-newcomer-pre-arrival-integration-session/
CATEGORIES:Free,Online
ATTACH;FMTTYPE=image/png:https://monctoncares.ca/wp-content/uploads/2023/02/Untitled-design-3.png
END:VEVENT
BEGIN:VEVENT
DTSTART;TZID=America/Halifax:20230220T170000
DTEND;TZID=America/Halifax:20230220T190000
DTSTAMP:20260422T030201
CREATED:20230206T232342Z
LAST-MODIFIED:20230206T232342Z
UID:8925-1676912400-1676919600@monctoncares.ca
SUMMARY:Newcomer Winter Potluck 2023
DESCRIPTION:Join fellow newcomers in Moncton for the Newcomer Winter Potluck 2023 on February 20th! Enjoy a delicious spread of food from different cultures\, play games\, participate in activities\, and network with others. Bring a dish to share\, and come ready for a fun-filled evening!
URL:https://monctoncares.ca/event/newcomer-winter-potluck-2023/
ATTACH;FMTTYPE=image/png:https://monctoncares.ca/wp-content/uploads/2022/11/LearnToBBQ7x7.png
ORGANIZER;CN="Moncton Cares":MAILTO:community@monctoncares.ca
END:VEVENT
BEGIN:VEVENT
DTSTART;VALUE=DATE:20230218
DTEND;VALUE=DATE:20230220
DTSTAMP:20260422T030201
CREATED:20230206T223845Z
LAST-MODIFIED:20230206T233133Z
UID:8922-1676682000-1676768399@monctoncares.ca
SUMMARY:Learn to Snowshoe / Faire de la Raquette
DESCRIPTION:Is it difficult to learn to snowshoe? If you enjoy hiking or getting into Nature – snowshoeing is the winter sport for you. It’s a great form of exercise and can be enjoyed at any fitness level.\nWe want newcomers to enjoy winter activities and embrace this winter. \nJoin Moncton Cares Team for Snowshoeing
URL:https://monctoncares.ca/event/learn-to-snowshoe-faire-de-la-raquette/
ATTACH;FMTTYPE=image/png:https://monctoncares.ca/wp-content/uploads/2022/11/LearnToSnowshoe1.png
ORGANIZER;CN="Moncton Cares":MAILTO:community@monctoncares.ca
END:VEVENT
END:VCALENDAR